BEGIN:VCALENDAR
VERSION:2.0
PRODID:-//Lightspeed Systems - ECPv6.15.17.1//NONSGML v1.0//EN
CALSCALE:GREGORIAN
METHOD:PUBLISH
X-WR-CALNAME:Lightspeed Systems
X-ORIGINAL-URL:https://www.lightspeedsystems.com/en_uk
X-WR-CALDESC:Events for Lightspeed Systems
REFRESH-INTERVAL;VALUE=DURATION:PT1H
X-Robots-Tag:noindex
X-PUBLISHED-TTL:PT1H
BEGIN:VTIMEZONE
TZID:America/New_York
BEGIN:DAYLIGHT
TZOFFSETFROM:-0500
TZOFFSETTO:-0400
TZNAME:EDT
DTSTART:20250309T070000
END:DAYLIGHT
BEGIN:STANDARD
TZOFFSETFROM:-0400
TZOFFSETTO:-0500
TZNAME:EST
DTSTART:20251102T060000
END:STANDARD
BEGIN:DAYLIGHT
TZOFFSETFROM:-0500
TZOFFSETTO:-0400
TZNAME:EDT
DTSTART:20260308T070000
END:DAYLIGHT
BEGIN:STANDARD
TZOFFSETFROM:-0400
TZOFFSETTO:-0500
TZNAME:EST
DTSTART:20261101T060000
END:STANDARD
BEGIN:DAYLIGHT
TZOFFSETFROM:-0500
TZOFFSETTO:-0400
TZNAME:EDT
DTSTART:20270314T070000
END:DAYLIGHT
BEGIN:STANDARD
TZOFFSETFROM:-0400
TZOFFSETTO:-0500
TZNAME:EST
DTSTART:20271107T060000
END:STANDARD
END:VTIMEZONE
BEGIN:VEVENT
DTSTART;VALUE=DATE:20260504
DTEND;VALUE=DATE:20260507
DTSTAMP:20260419T145642
CREATED:20260223T044446Z
LAST-MODIFIED:20260223T044446Z
UID:40943-1777852800-1778111999@www.lightspeedsystems.com
SUMMARY:Tech Talk Live
DESCRIPTION:Tech Talk Live 2026 — Lancaster\, PA \nLightspeed Systems is heading to Tech Talk Live 2026\, held May 4–6\, 2026\, at IU13 Conference & Training Center in Lancaster\, PA. \nWe’re looking forward to joining a community of educational‑technology professionals facing the same “day‑to‑day” IT challenges as you. Expect real‑world\, practical conversations\, hands‑on demonstrations\, and fresh ideas designed to help K–12 tech teams improve safety\, streamline systems\, and elevate learning.
URL:https://www.lightspeedsystems.com/en_uk/event/tech-talk-live/
LOCATION:Lancaster Lebanon IU13 Conference and Training Center\, 1020 New Holland Ave Lancaster\, PA 17601\, Lanacaster\, PA\, United States
CATEGORIES:Conference
END:VEVENT
BEGIN:VEVENT
DTSTART;VALUE=DATE:20260506
DTEND;VALUE=DATE:20260508
DTSTAMP:20260419T145642
CREATED:20260223T044446Z
LAST-MODIFIED:20260223T044446Z
UID:40945-1778025600-1778198399@www.lightspeedsystems.com
SUMMARY:CEN (Connecticut Education Network) Connect 2026 Annual Member Conference
DESCRIPTION:Lightspeed Systems will attend the CEN Connect 2026 Annual Member Conference\, slated for May 6–7\, 2026\, at the Connecticut Convention Center in Hartford\, CT.  \nThis two‑day member-driven event brings together educators\, IT professionals\, school‑district leaders\, and community institutions for collaboration\, learning\, and networking. We’re looking forward to joining the conversation — showcasing how our K–12 solutions strengthen network performance\, cybersecurity\, and digital learning environments. \nAttendees will have the chance to engage with our team\, explore hands‑on demos\, and discover actionable strategies to support safe\, reliable\, and forward‑looking education technology across Connecticut schools and institutions.
URL:https://www.lightspeedsystems.com/en_uk/event/cen-connecticut-education-network-connect-2026-annual-member-conference/
LOCATION:Connecticut Convention Center\, 100 Columbus Blvd\, Hartford\, CT 06103\, Hartford\, CT\, United States
CATEGORIES:Conference
END:VEVENT
BEGIN:VEVENT
DTSTART;VALUE=DATE:20260506
DTEND;VALUE=DATE:20260509
DTSTAMP:20260419T145642
CREATED:20260223T044545Z
LAST-MODIFIED:20260223T044545Z
UID:40949-1778025600-1778284799@www.lightspeedsystems.com
SUMMARY:ACPE (Association for Computer Professionals in Education) Northwest 2026 Conference
DESCRIPTION:ACPE Northwest 2026 Conference \nLightspeed Systems will be participating in the ACPE Northwest 2026 Conference from May 6–8\, 2026\, at the Skamania Lodge Stevenson\, WA 98101. \nThis gathering of education technology professionals offers the perfect opportunity to see our solutions in action. Attendees can explore hands-on demonstrations\, engage directly with our team\, and learn practical ways to strengthen student safety\, secure digital environments\, and enhance learning outcomes across K–12 schools. We’re looking forward to sharing innovative strategies and connecting with Northwest educators and technology leaders.
URL:https://www.lightspeedsystems.com/en_uk/event/acpe-association-for-computer-professionals-in-education-northwest-2026-conference/
LOCATION:Skamania Lodge\, 1131 SW Skamania Lodge Way\, Stevenson\, WA 98648\, Stevenson\, WA\, United States
CATEGORIES:Conference
END:VEVENT
BEGIN:VEVENT
DTSTART;VALUE=DATE:20260507
DTEND;VALUE=DATE:20260508
DTSTAMP:20260419T145642
CREATED:20260330T140334Z
LAST-MODIFIED:20260330T140334Z
UID:42350-1778112000-1778198399@www.lightspeedsystems.com
SUMMARY:Schools And Academies Show
DESCRIPTION:Lightspeed Systems will be attending the Schools and Academies Show on 7th May 2026 at ExCeL London. As one of the UK’s leading education events\, the show brings together thousands of school leaders\, policymakers and suppliers for a day of learning\, discussion and practical solutions to support school improvement. \nJoin us to explore the latest trends\, hear from sector experts\, and connect with our team to discuss how we can support safer\, more effective digital learning environments. \n\n\n\n\n\n\n\nYou can book your tickets here!
URL:https://www.lightspeedsystems.com/en_uk/event/schools-and-academies-show-london-2026/
LOCATION:Excel London One Western Gateway\, Royal Victoria Dock\, 1 Western Gateway\, London E16 1XL\, Excel London One Western Gateway\, Royal Victoria Dock\, 1 Western Gateway\, London\, E16 1XL\, United Kingdom
CATEGORIES:Conference
END:VEVENT
BEGIN:VEVENT
DTSTART;VALUE=DATE:20260507
DTEND;VALUE=DATE:20260509
DTSTAMP:20260419T145642
CREATED:20260223T044544Z
LAST-MODIFIED:20260223T044544Z
UID:40947-1778112000-1778284799@www.lightspeedsystems.com
SUMMARY:Indiana CTO Clinic
DESCRIPTION:Indiana CTO Clinic 2026 \nLightspeed Systems will be attending the Indiana CTO Clinic 2026\, May 7-8\, 2026\, at the Embassy Suites in Noblesville\, IN. \nThis conference gathers K–12 technology leaders for networking\, professional development\, and hands-on exploration of solutions. Discover how our tools can strengthen district IT infrastructure\, safeguard student data\, and enhance technology-driven learning experiences.
URL:https://www.lightspeedsystems.com/en_uk/event/indiana-cto-clinic/
LOCATION:Embassy Suites Noblesville\, 13700 Conference Center Dr\, Noblesville\, IN 46060\, Noblesville\, IN\, United States
CATEGORIES:Conference
END:VEVENT
BEGIN:VEVENT
DTSTART;VALUE=DATE:20260508
DTEND;VALUE=DATE:20260510
DTSTAMP:20260419T145642
CREATED:20260223T044545Z
LAST-MODIFIED:20260223T044545Z
UID:40951-1778198400-1778371199@www.lightspeedsystems.com
SUMMARY:Bett Brasil
DESCRIPTION:Lightspeed Systems is thrilled to participate in Bett Brasil 2026\, May 8-9\, 2026\, at Expo Center Norte\, São Paulo\, Brazil. \nJoin us at Latin America’s leading EdTech event to experience our K–12 solutions in action. See interactive demos\, meet our team\, and learn how schools worldwide are leveraging technology to improve safety\, streamline operations\, and enrich student learning.
URL:https://www.lightspeedsystems.com/en_uk/event/bett-brasil/
LOCATION:Expo Center Norte\, Rua José Bernardo Pinto\, 333 – Vila Guilherme\, São Paulo - SP\, CEP: 02055-000 - 1o andar - sala Vila Maria\, Sao Paulo\, Brazil
CATEGORIES:Conference
END:VEVENT
BEGIN:VEVENT
DTSTART;VALUE=DATE:20260521
DTEND;VALUE=DATE:20260522
DTSTAMP:20260419T145642
CREATED:20260330T141536Z
LAST-MODIFIED:20260330T141536Z
UID:42372-1779321600-1779407999@www.lightspeedsystems.com
SUMMARY:MATPN Digital
DESCRIPTION:Lightspeed Systems will be attending MATPN Digital on 21 May 2026. This focused event brings together multi-academy trust leaders and education professionals to explore effective digital strategies and innovation across trusts. \nJoin us to connect with peers\, gain practical insights\, and speak with our team about how we can support safe\, secure\, and impactful digital learning across your MAT. \nYou can register to attend here.
URL:https://www.lightspeedsystems.com/en_uk/event/matpn-digital-2026/
LOCATION:DoubleTree Hilton\, Tower of London\, London\, Double Tree Hilton\, London\, EC3N 4AF\, United Kingdom
CATEGORIES:Conference
END:VEVENT
END:VCALENDAR