BEGIN:VCALENDAR
VERSION:2.0
PRODID:-//Lightspeed Systems - ECPv6.15.17.1//NONSGML v1.0//EN
CALSCALE:GREGORIAN
METHOD:PUBLISH
X-WR-CALNAME:Lightspeed Systems
X-ORIGINAL-URL:https://www.lightspeedsystems.com
X-WR-CALDESC:Events for Lightspeed Systems
REFRESH-INTERVAL;VALUE=DURATION:PT1H
X-Robots-Tag:noindex
X-PUBLISHED-TTL:PT1H
BEGIN:VTIMEZONE
TZID:America/New_York
BEGIN:DAYLIGHT
TZOFFSETFROM:-0500
TZOFFSETTO:-0400
TZNAME:EDT
DTSTART:20250309T070000
END:DAYLIGHT
BEGIN:STANDARD
TZOFFSETFROM:-0400
TZOFFSETTO:-0500
TZNAME:EST
DTSTART:20251102T060000
END:STANDARD
BEGIN:DAYLIGHT
TZOFFSETFROM:-0500
TZOFFSETTO:-0400
TZNAME:EDT
DTSTART:20260308T070000
END:DAYLIGHT
BEGIN:STANDARD
TZOFFSETFROM:-0400
TZOFFSETTO:-0500
TZNAME:EST
DTSTART:20261101T060000
END:STANDARD
BEGIN:DAYLIGHT
TZOFFSETFROM:-0500
TZOFFSETTO:-0400
TZNAME:EDT
DTSTART:20270314T070000
END:DAYLIGHT
BEGIN:STANDARD
TZOFFSETFROM:-0400
TZOFFSETTO:-0500
TZNAME:EST
DTSTART:20271107T060000
END:STANDARD
END:VTIMEZONE
BEGIN:VEVENT
DTSTART;VALUE=DATE:20260602
DTEND;VALUE=DATE:20260603
DTSTAMP:20260419T131941
CREATED:20260223T044546Z
LAST-MODIFIED:20260223T044546Z
UID:40953-1780358400-1780444799@www.lightspeedsystems.com
SUMMARY:Region 16 Education Service Center (ESC) School Safety Summit
DESCRIPTION:Join Lightspeed Systems at the Region 16 ESC School Safety Summit 2026! \nLightspeed Systems will be attending the Region 16 Education Service Center (ESC) School Safety Summit\, happening June 2\, 2026\, in Amarillo\, TX. \nDiscover how our innovative K–12 solutions are helping Texas schools enhance safety\, security\, and learning. Connect with our experts\, explore live demos\, and see practical strategies for creating safer and more supportive school environments.
URL:https://www.lightspeedsystems.com/event/region-16-education-service-center-esc-school-safety-summit/
LOCATION:Region 16 Education Service Center\, 5800 Bell Street\, Amarillo\, TX 79109\, Amarillo\, TX\, United States
CATEGORIES:Conference
END:VEVENT
BEGIN:VEVENT
DTSTART;VALUE=DATE:20260608
DTEND;VALUE=DATE:20260610
DTSTAMP:20260419T131941
CREATED:20260223T044546Z
LAST-MODIFIED:20260223T044546Z
UID:40955-1780876800-1781049599@www.lightspeedsystems.com
SUMMARY:Georgia School Safety and Homeland Security Conference
DESCRIPTION:Join Lightspeed Systems at the Georgia School Safety & Homeland Security Conference 2026! \nDiscover how our innovative K–12 solutions are helping schools enhance safety\, security\, and learning. Visit us June 8-9\, 2026\, at the Savannah Convention Center in Savannah\, GA to explore live demos\, connect with our experts\, and see the future of school safety technology. \nStay tuned for our interactive sessions\, featuring hands-on demonstrations and actionable insights for educators and administrators.
URL:https://www.lightspeedsystems.com/event/georgia-school-safety-and-homeland-security-conference/
LOCATION:Savannah Convention Center\, 1 International Drive\, Savannah\, GA 31421\, Savannah\, GA\, United States
CATEGORIES:Conference
END:VEVENT
BEGIN:VEVENT
DTSTART;VALUE=DATE:20260608
DTEND;VALUE=DATE:20260612
DTSTAMP:20260419T131941
CREATED:20260223T044644Z
LAST-MODIFIED:20260223T044644Z
UID:40957-1780876800-1781222399@www.lightspeedsystems.com
SUMMARY:Florida School Safety Summit & Expo
DESCRIPTION:Lightspeed Systems is proud to participate in the Florida School Safety Summit & Expo\, taking placeJune 8-11\, 2026\, at the Hyatt Regency Grand Cypress\, Orlando\, FL. \nThis important event brings together Florida school leaders\, safety professionals\, and technology experts to address challenges in school security and student safety. Lightspeed will be on site demonstrating how our K–12 solutions enhance security\, streamline safety protocols\, and support a positive learning environment. \nAttendees will have the chance to engage with our team\, see hands-on demonstrations\, and learn practical strategies for implementing technology that keeps schools safer while supporting student success.
URL:https://www.lightspeedsystems.com/event/florida-school-safety-summit-expo/
LOCATION:Hyatt Regency Grand Cypress\, 1 Grand Cypress Blvd\, Orlando\, FL 32836\, Orlando\, FL\, United States
CATEGORIES:Conference
END:VEVENT
BEGIN:VEVENT
DTSTART;VALUE=DATE:20260609
DTEND;VALUE=DATE:20260613
DTSTAMP:20260419T131941
CREATED:20260223T044646Z
LAST-MODIFIED:20260223T044646Z
UID:40962-1780963200-1781308799@www.lightspeedsystems.com
SUMMARY:CGCS 2026 CIO (Chief Information Officers) Annual Conference
DESCRIPTION:CGCS 2026 CIO Annual Conference \nLightspeed Systems is excited to participate in the Council of the Great City Schools (CGCS) 2026 CIO Annual Conference\, taking place June 9-12\, 2026\, in Indianapolis\, IN. \nAt this premier gathering of urban district technology leaders\, we’ll showcase how our K–12 solutions support secure\, efficient\, and effective learning environments. Attendees can engage with our team\, explore hands-on demonstrations\, and gain insights into strategies that strengthen district technology infrastructure while keeping students safe. \nWe look forward to connecting with CIOs\, IT directors\, and education technology decision-makers to share innovative approaches and practical applications for K–12 schools.
URL:https://www.lightspeedsystems.com/event/cgcs-2026-cio-chief-information-officers-annual-conference/
LOCATION:Hyatt Regency Indianapolis\, One South Capitol Ave\, Indianapolis\, IN 46204\, Indianapolis\, IN\, United States
CATEGORIES:Conference
END:VEVENT
BEGIN:VEVENT
DTSTART;VALUE=DATE:20260610
DTEND;VALUE=DATE:20260612
DTSTAMP:20260419T131941
CREATED:20260223T044645Z
LAST-MODIFIED:20260223T044645Z
UID:40960-1781049600-1781222399@www.lightspeedsystems.com
SUMMARY:Utah State School Safety Conference
DESCRIPTION:Lightspeed Systems at the Utah State School Safety Conference 2026 \nLightspeed Systems will be attending the Utah State School Safety Conference 2026\, taking place June 10-11\, 2026\, in West Jordan\, UT. \nWe’ll be on site demonstrating how our K–12 solutions enhance student safety\, streamline security protocols\, and support effective learning environments. Connect with our team\, explore hands-on demos\, and discover strategies to help Utah districts maintain safe and supportive schools.
URL:https://www.lightspeedsystems.com/event/utah-state-school-safety-conference/
LOCATION:TBD
CATEGORIES:Conference
END:VEVENT
BEGIN:VEVENT
DTSTART;VALUE=DATE:20260611
DTEND;VALUE=DATE:20260612
DTSTAMP:20260419T131941
CREATED:20260223T044645Z
LAST-MODIFIED:20260223T044645Z
UID:40959-1781136000-1781222399@www.lightspeedsystems.com
SUMMARY:Region 15 Education Service Center (ESC) School Safety Summit
DESCRIPTION:Join Lightspeed Systems at the Region 15 ESC School Safety Summit 2026! \nLightspeed Systems will be attending the Region 15 Education Service Center (ESC) School Safety Summit\, happening June 11\, 2026\, in Odessa\, TX. \nDiscover how our innovative K–12 solutions are helping Texas schools enhance safety\, security\, and learning. Connect with our experts\, explore live demos\, and see practical strategies for creating safer and more supportive school environments.”
URL:https://www.lightspeedsystems.com/event/region-15-education-service-center-esc-school-safety-summit/
LOCATION:Region 15 Education Service Center\, 5800 Bell St\, Odessa\, TX 79762\, Odessa\, TX\, United States
CATEGORIES:Conference
END:VEVENT
BEGIN:VEVENT
DTSTART;VALUE=DATE:20260615
DTEND;VALUE=DATE:20260620
DTSTAMP:20260419T131941
CREATED:20260330T152740Z
LAST-MODIFIED:20260330T160207Z
UID:42375-1781481600-1781913599@www.lightspeedsystems.com
SUMMARY:London EdTech Week
DESCRIPTION:Lightspeed Systems will be attending London EdTech Week 2026. This dynamic\, city-wide event brings together educators\, innovators and technology leaders to explore the future of education and the role of digital in driving meaningful change. \nJoin us to connect with the community\, discover new ideas\, and speak with our team about creating safer\, more effective digital learning environments. \nYou can register and join us here.
URL:https://www.lightspeedsystems.com/event/london-edtech-week-2026/
LOCATION:County Hall\, Belvedere Rd\, London SE1 7GP\, County Hall\, Belvedere Rd\, London SE1 7GP\, London\, SE17GP
CATEGORIES:Conference
END:VEVENT
BEGIN:VEVENT
DTSTART;VALUE=DATE:20260617
DTEND;VALUE=DATE:20260620
DTSTAMP:20260419T131941
CREATED:20260223T044646Z
LAST-MODIFIED:20260223T044646Z
UID:40964-1781654400-1781913599@www.lightspeedsystems.com
SUMMARY:Indiana School Safety Conference 2026
DESCRIPTION:Indiana School Safety Conference 2026 \nLightspeed Systems will be participating in the Indiana School Safety Conference 2026\, taking place June 17–19\, 2026\, at Blue Chip Casino\, Michigan City\, IN. \nAt this important gathering of school leaders and safety professionals\, we’ll showcase how our K–12 solutions help districts strengthen student safety\, protect digital environments\, and support effective learning. Attendees can engage with our experts\, experience hands-on demonstrations\, and discover practical strategies for implementing technology to keep schools secure and supportive. \nWe’re looking forward to connecting with educators and administrators\, sharing innovative approaches\, and providing actionable insights to enhance safety and learning outcomes across Indiana schools.
URL:https://www.lightspeedsystems.com/event/indiana-school-safety-conference-2026/
LOCATION:Blue Chip Casino\, 777 Blue Chip Drive\, Michigan City\, IN 46360\, Michigan City\, IN\, United States
CATEGORIES:Conference
END:VEVENT
BEGIN:VEVENT
DTSTART;VALUE=DATE:20260623
DTEND;VALUE=DATE:20260626
DTSTAMP:20260419T131941
CREATED:20260223T044744Z
LAST-MODIFIED:20260223T044744Z
UID:40966-1782172800-1782431999@www.lightspeedsystems.com
SUMMARY:FAMIS (Florida Association of MIS) 2026 Conference
DESCRIPTION:Lightspeed Systems at FAMIS 2026! \nJoin us June 23–25\, 2026\, at the Caribe Royale Resort\, Orlando\, FL for FAMIS 2026.  \nCome see how our K–12 tech solutions are elevating security\, data management\, and digital learning across Florida’s districts. Connect with our team\, check out our latest offerings\, and explore live demos that show how we help protect student information while boosting operational efficiency. \nWe’re excited to meet MIS directors\, IT staff\, and education leaders — and share actionable insights and best practices to support safe\, smooth‑running school information systems.
URL:https://www.lightspeedsystems.com/event/famis-florida-association-of-mis-2026-conference/
LOCATION:Caribe Royale Resort\, 8101 World Center Drive\, Orlando\, FL 32821\, Orlando\, FL\, United States
CATEGORIES:Conference
END:VEVENT
BEGIN:VEVENT
DTSTART;VALUE=DATE:20260623
DTEND;VALUE=DATE:20260626
DTSTAMP:20260419T131941
CREATED:20260223T044745Z
LAST-MODIFIED:20260223T044745Z
UID:40967-1782172800-1782431999@www.lightspeedsystems.com
SUMMARY:TETL (Texas Education Technology Leaders) Summer Conference 2026
DESCRIPTION:Lightspeed Systems at TETL Summer Conference 2026 \nLightspeed Systems will be joining the Texas education‑tech community for the TETL Summer Conference\, June 23–25\, 2026\, in Irving\, TX. \nWe’ll be on hand to highlight how our K–12 solutions strengthen digital safety\, streamline school technology management\, and support modern teaching and learning. Stop by to explore interactive demos\, connect with our team\, and discover actionable ways to enhance student safety and district efficiency. \nLooking forward to collaborating with Texas educators and IT leaders — and sharing strategies to help districts achieve their EdTech goals.
URL:https://www.lightspeedsystems.com/event/tetl-texas-education-technology-leaders-summer-conference-2026/
LOCATION:TBD
CATEGORIES:Conference
END:VEVENT
BEGIN:VEVENT
DTSTART;VALUE=DATE:20260625
DTEND;VALUE=DATE:20260627
DTSTAMP:20260419T131941
CREATED:20260223T044745Z
LAST-MODIFIED:20260223T044745Z
UID:40969-1782345600-1782518399@www.lightspeedsystems.com
SUMMARY:Multi Academy Trust Partnership Network (MATPN) Midlands
DESCRIPTION:MATPN Midlands UK 2026 — A Gathering for MAT Leaders & Innovators \nLightspeed Systems is looking forward to being part of MATPN Midlands UK 2026\, happening June 25–26\, 2026 at East Midlands Conference Centre (EMCC)\, Nottingham\, UK.  \nThis event brings together senior leaders from multi‑academy trusts and forward‑thinking solution providers — a great space to explore new approaches to education\, technology\, and school operations. We’ll be on hand introducing our K–12 solutions\, offering live demos\, and showing how technology can support safer\, more effective\, and future‑ready learning environments across MATs. \nWe can’t wait to connect with trust executives\, IT directors\, and educators — ready to share insight\, exchange ideas\, and help drive transformational change in schools and trusts across the Midlands.
URL:https://www.lightspeedsystems.com/event/multi-academy-trust-partnership-network-matpn-midlands/
LOCATION:East Midlands Conference Centre\, Beeston Lane\, University of Nottingham\, Nottingham\, NG7 2RJ\, Nottingham\, Nottinghamshire
CATEGORIES:Conference
END:VEVENT
BEGIN:VEVENT
DTSTART;VALUE=DATE:20260625
DTEND;VALUE=DATE:20260627
DTSTAMP:20260419T131941
CREATED:20260330T160745Z
LAST-MODIFIED:20260330T160745Z
UID:42385-1782345600-1782518399@www.lightspeedsystems.com
SUMMARY:MATPN Midlands
DESCRIPTION:Lightspeed Systems will be attending MATPN Midlands on 25–26 June 2026 at the East Midlands Conference Centre in Nottingham. This two-day\, peer-led event brings together senior leaders from multi-academy trusts to explore the key challenges and opportunities shaping the sector today. \nWith a programme shaped by real-world priorities\, the event covers areas including digital transformation\, workforce strategy\, governance\, and school improvement\, alongside dedicated time for networking and one-to-one meetings. \nJoin us to connect with MAT leaders\, share insights\, and speak with our team about supporting safe\, effective\, and future-ready digital learning environments. \nYou can register to attend here.
URL:https://www.lightspeedsystems.com/event/matpn-midlands-2026/
LOCATION:University of Nottingham’s University Park Campus\, Nottingham\, NG7 2RJ\, University Park Campus\, Nottingham\, NG72RJ\, United Kingdom
CATEGORIES:Conference
END:VEVENT
BEGIN:VEVENT
DTSTART;VALUE=DATE:20260625
DTEND;VALUE=DATE:20260628
DTSTAMP:20260419T131941
CREATED:20260331T084952Z
LAST-MODIFIED:20260331T084952Z
UID:42410-1782345600-1782604799@www.lightspeedsystems.com
SUMMARY:Learning & Teaching Expo\, Hong Kong
DESCRIPTION:Lightspeed Systems will be attending Learning & Teaching Expo 2026\, taking place from 25–27 June 2026 at the Hong Kong Convention and Exhibition Centre. As one of Asia’s leading education events\, the expo brings together educators\, school leaders and innovators to share ideas\, explore emerging trends\, and shape the future of teaching and learning. \nWith a programme that includes keynote sessions\, seminars\, workshops and product showcases\, the event offers valuable opportunities to discover practical approaches to teaching\, technology integration and student engagement. \nJoin us to connect with the education community and speak with our team about supporting safe\, effective digital learning environments. \nYou can find out more here.
URL:https://www.lightspeedsystems.com/event/learning-teaching-expo-hong-kong-2026/
LOCATION:Hong Kong Convention and Exhibition Centre\, 1 Expo Drive\, Wan Chai\, Hong Kong\, Hong Kong Convention and Exhibition Centre\, 1 Expo Drive\, Wan Chai\, Hong Kong
CATEGORIES:Conference
END:VEVENT
BEGIN:VEVENT
DTSTART;VALUE=DATE:20260628
DTEND;VALUE=DATE:20260702
DTSTAMP:20260419T131941
CREATED:20260223T044746Z
LAST-MODIFIED:20260223T044746Z
UID:40971-1782604800-1782950399@www.lightspeedsystems.com
SUMMARY:ISTE (International Society for Technology in Education) Live 26
DESCRIPTION:Join Lightspeed Systems at ISTELive 26! \nDiscover how our innovative K–12 solutions are enhancing safety\, security\, and learning in schools. Visit us June 28 – July 1\, 2026\, in Orlando\, FL to explore live demos\, connect with our experts\, and see the future of EdTech in action. \nStay tuned for our interactive sessions\, featuring hands-on demonstrations and practical insights for educators and technology leaders.
URL:https://www.lightspeedsystems.com/event/iste-international-society-for-technology-in-education-live-26/
LOCATION:Orange County Convention Center\, 9800 International Drive Orlando\, Florida 32819\, Orlando\, FL\, United States
CATEGORIES:Conference
END:VEVENT
END:VCALENDAR